BEGIN:VCALENDAR
VERSION:2.0
PRODID:-//Startseite  - ECPv6.15.18//NONSGML v1.0//EN
CALSCALE:GREGORIAN
METHOD:PUBLISH
X-WR-CALNAME:Startseite 
X-ORIGINAL-URL:https://blasiikirche-nordhausen.de
X-WR-CALDESC:Veranstaltungen für Startseite 
REFRESH-INTERVAL;VALUE=DURATION:PT1H
X-Robots-Tag:noindex
X-PUBLISHED-TTL:PT1H
BEGIN:VTIMEZONE
TZID:Europe/Berlin
BEGIN:DAYLIGHT
TZOFFSETFROM:+0100
TZOFFSETTO:+0200
TZNAME:CEST
DTSTART:20250330T010000
END:DAYLIGHT
BEGIN:STANDARD
TZOFFSETFROM:+0200
TZOFFSETTO:+0100
TZNAME:CET
DTSTART:20251026T010000
END:STANDARD
BEGIN:DAYLIGHT
TZOFFSETFROM:+0100
TZOFFSETTO:+0200
TZNAME:CEST
DTSTART:20260329T010000
END:DAYLIGHT
BEGIN:STANDARD
TZOFFSETFROM:+0200
TZOFFSETTO:+0100
TZNAME:CET
DTSTART:20261025T010000
END:STANDARD
BEGIN:DAYLIGHT
TZOFFSETFROM:+0100
TZOFFSETTO:+0200
TZNAME:CEST
DTSTART:20270328T010000
END:DAYLIGHT
BEGIN:STANDARD
TZOFFSETFROM:+0200
TZOFFSETTO:+0100
TZNAME:CET
DTSTART:20271031T010000
END:STANDARD
END:VTIMEZONE
BEGIN:VEVENT
DTSTART;TZID=Europe/Berlin:20260419T100000
DTEND;TZID=Europe/Berlin:20260419T110000
DTSTAMP:20260420T062432
CREATED:20260410T083035Z
LAST-MODIFIED:20260410T083035Z
UID:3563-1776592800-1776596400@blasiikirche-nordhausen.de
SUMMARY:Gottesdienst zu Misericordias Domini mit Pfarrer Hauke Meinhold
DESCRIPTION:
URL:https://blasiikirche-nordhausen.de/event/gottesdienst-zu-misericordias-domini-mit-pfarrer-hauke-meinhold/
LOCATION:Blasiikirche Nordhausen\, Nordhausen\, Thüringen
CATEGORIES:Gottesdienst
END:VEVENT
BEGIN:VEVENT
DTSTART;TZID=Europe/Berlin:20260412T100000
DTEND;TZID=Europe/Berlin:20260412T110000
DTSTAMP:20260420T062432
CREATED:20260410T080950Z
LAST-MODIFIED:20260410T080950Z
UID:3561-1775988000-1775991600@blasiikirche-nordhausen.de
SUMMARY:Gottesdienst zu Quasimodogeniti mit Superintendent Andreas Schwarze
DESCRIPTION:Quasimodogeniti bedeutet übersetzt „Wie die neugeborenen Kinder“\, die katholische Kirche feiert an diesem Sonntag nach Ostern den weißen Sonntag und damit die Firmung. Am diesem Sonntag wollen wir uns gemeinsam mit dem zweifelnden Jünger Thomas auf die Suche nach persönlichen Zweifeln und deren Lösung begeben. Wir freuen uns\, dass Superintendent Andreas Schwarze diesen Gottesdienst mit uns feiern wird.
URL:https://blasiikirche-nordhausen.de/event/gottesdienst-zu-quasimodogeniti-mit-superintendent-andreas-schwarze/
LOCATION:Blasiikirche Nordhausen\, Nordhausen\, Thüringen
END:VEVENT
BEGIN:VEVENT
DTSTART;TZID=Europe/Berlin:20260406T130000
DTEND;TZID=Europe/Berlin:20260406T140000
DTSTAMP:20260420T062432
CREATED:20260309T100940Z
LAST-MODIFIED:20260309T100940Z
UID:3517-1775480400-1775484000@blasiikirche-nordhausen.de
SUMMARY:Gottesdienst zu Ostermontag in Petersdorf mit Pfarrerehepaar von Biela
DESCRIPTION:Nach dem Spaziergang nach Petersdorf und dem Mittagessen dort wollen wir in der wundervollen Petersdorfer Kirche einen festlichen Gottesdienst mit Musik und Wort zum Osterfest feiern. Im Anschluss besteht die Möglichkeit\, mit dem ÖPNV nach Nordhausen zurückzukehren oder gemeinsam zurück zu laufen.
URL:https://blasiikirche-nordhausen.de/event/gottesdienst-zu-ostermontag-in-petersdorf-mit-pfarrerehepaar-von-biela/
LOCATION:Dorfkirche Petersdorf\, Petersdorfer Straße\, Petersdorf\, Thüringen\, 99734
CATEGORIES:Gottesdienst
END:VEVENT
BEGIN:VEVENT
DTSTART;TZID=Europe/Berlin:20260406T100000
DTEND;TZID=Europe/Berlin:20260406T103000
DTSTAMP:20260420T062432
CREATED:20260309T100220Z
LAST-MODIFIED:20260309T100220Z
UID:3515-1775469600-1775471400@blasiikirche-nordhausen.de
SUMMARY:Andacht zu Ostermontag mit anschließendem Spaziergang nach Petersdorf
DESCRIPTION:Ostern ist eine Zeit des Wanderns\, des Unterwegs-Seins und des Entgegenkommens. Daran wollen wir am Ostermontag in einer kurzen Andacht in der Blasiikirche denken\, bevor wir uns frei nach Goethes Osterspaziergang gemeinsam auf dem Weg machen wollen\, um zum Mittagessen nach Petersdorf zu wandern. Festes Schuhwerk und kleine Verpflegung sind also empfohlen!
URL:https://blasiikirche-nordhausen.de/event/andacht-zu-ostermontag-mit-anschliessendem-spaziergang-nach-petersdorf/
LOCATION:Blasiikirche Nordhausen\, Nordhausen\, Thüringen
CATEGORIES:Gottesdienst
END:VEVENT
BEGIN:VEVENT
DTSTART;TZID=Europe/Berlin:20260405T100000
DTEND;TZID=Europe/Berlin:20260405T110000
DTSTAMP:20260420T062432
CREATED:20260309T095920Z
LAST-MODIFIED:20260309T095920Z
UID:3512-1775383200-1775386800@blasiikirche-nordhausen.de
SUMMARY:Ostergottesdienst mit Taufe\, Posaunenchor und Pfarrerehepaar von Biela
DESCRIPTION:„Er ist wahrhaftig auferstanden“. Was gibt es Schöneres\, als diesen Tag mit einer Taufe und dem Posaunenchor zu feiern? Es ist Ostern geworden\, wieder einmal. Trotz allem. Das muss gefeiert werden. Herzliche Einladung zu diesem besonderen Gottesdienst!
URL:https://blasiikirche-nordhausen.de/event/ostergottesdienst-mit-taufe-posaunenchor-und-pfarrerehepaar-von-biela/
LOCATION:Blasiikirche Nordhausen\, Nordhausen\, Thüringen
CATEGORIES:Gottesdienst
END:VEVENT
BEGIN:VEVENT
DTSTART;TZID=Europe/Berlin:20260405T053000
DTEND;TZID=Europe/Berlin:20260405T070000
DTSTAMP:20260420T062432
CREATED:20260309T095715Z
LAST-MODIFIED:20260309T095716Z
UID:3510-1775367000-1775372400@blasiikirche-nordhausen.de
SUMMARY:Osternacht mit Frühstück und Pfarrer Hauke Meinhold
DESCRIPTION:Dunkelheit. Lagerfeuer. Die Osterkerze wird entzündet\, nach und nach kommt wieder Licht in die Welt. Die Freude kehrt zurück\, der Tod weicht dem Leben\, die Dunkelheit dem Licht. „Christus ist auferstanden\, er ist wahrhaftig auferstanden!“. Und das feiern wir gemeinsam in der Osternacht. Für alle Frühaufsteher gibt es im Gottesdienst Kaffee und Mitbring-Frühstück. Diesen Moment im Kirchenjahr sollte niemand verpassen!
URL:https://blasiikirche-nordhausen.de/event/osternacht-mit-fruehstueck-und-pfarrer-hauke-meinhold/
LOCATION:Blasiikirche Nordhausen\, Nordhausen\, Thüringen
CATEGORIES:Gottesdienst
END:VEVENT
BEGIN:VEVENT
DTSTART;TZID=Europe/Berlin:20260403T100000
DTEND;TZID=Europe/Berlin:20260403T110000
DTSTAMP:20260420T062432
CREATED:20260309T095319Z
LAST-MODIFIED:20260309T095319Z
UID:3508-1775210400-1775214000@blasiikirche-nordhausen.de
SUMMARY:Gottesdienst mit Abendmahl zu Karfreitag mit Pfarrerehepaar von Biela und der Nordhäuser Kantorei
DESCRIPTION:Karfreitag – der Tag der Kreuzigung Jesu. Der Tag\, an dem die Leidensgeschichte ihren Höhepunkt findet. Traditionell erklingt in diesem Gottesdienst keine Orgelmusik\, stattdessen wird die Nordhäuser Kantorei den Gesang begleiten. Gemeinsam wollen wir Abendmahl feiern\, mit Texten und Impulsen dem Leiden Jesu nachspüren und anschließend gemeinsam den Altar abräumen\, bis die Leere des Todes Jesu allein zurückbleibt.
URL:https://blasiikirche-nordhausen.de/event/gottesdienst-mit-abendmahl-zu-karfreitag-mit-pfarrerehepaar-von-biela-und-der-nordhaeuser-kantorei/
LOCATION:Blasiikirche Nordhausen\, Nordhausen\, Thüringen
END:VEVENT
BEGIN:VEVENT
DTSTART;TZID=Europe/Berlin:20260402T190000
DTEND;TZID=Europe/Berlin:20260402T200000
DTSTAMP:20260420T062432
CREATED:20260309T095014Z
LAST-MODIFIED:20260309T095014Z
UID:3504-1775156400-1775160000@blasiikirche-nordhausen.de
SUMMARY:Stadtgottesdienst mit Tischabendmahl am Gründonnerstag in der Frauenbergkirche
DESCRIPTION:Gründonnerstag ist der Tag\, an dem Jesus sich mit seinen Jüngern versammelte\, um das letzte Mal gemeinsam zu essen\, zu trinken\, das Abendmahl zu feiern. Darum versammeln wir uns in der Frauenbergkirche (Sangerhäuser Straße 1A)\, um gemeinsam beim Tischabendmahl mit Texten und Impulsen dem letzten Abendmahl zu gedenken.
URL:https://blasiikirche-nordhausen.de/event/stadtgottesdienst-mit-tischabendmahl-am-gruendonnerstag-in-der-frauenbergkirche/
LOCATION:Frauenbergkirche Nordhausen\, Sangerhäuser Straße 1A\, 99734 Nordhausen\, Thüringen
CATEGORIES:Gottesdienst
END:VEVENT
BEGIN:VEVENT
DTSTART;TZID=Europe/Berlin:20260329T100000
DTEND;TZID=Europe/Berlin:20260329T110000
DTSTAMP:20260420T062432
CREATED:20260309T094631Z
LAST-MODIFIED:20260309T094631Z
UID:3502-1774778400-1774782000@blasiikirche-nordhausen.de
SUMMARY:Gottesdienst zum Palmsonntag mit Pfarrerehepaar von Biela
DESCRIPTION:Es gibt einen Grund zu feiern: Jesus zieht in Jerusalem ein! Die Menschen fort empfingen ihn mit Palmzweigen\, mit Jubelrufen und Gesang. Deswegen wird der Posaunenchor Nordhausen für uns spielen\, und wir wollen gemeinsam mit Jesus in Jerusalem einziehen und vor der heiligen Woche noch einmal miteinander freudig beten und singen.
URL:https://blasiikirche-nordhausen.de/event/gottesdienst-zum-palmsonntag-mit-pfarrerehepaar-von-biela/
LOCATION:Blasiikirche Nordhausen\, Nordhausen\, Thüringen
CATEGORIES:Gottesdienst
END:VEVENT
BEGIN:VEVENT
DTSTART;TZID=Europe/Berlin:20260322T100000
DTEND;TZID=Europe/Berlin:20260322T110000
DTSTAMP:20260420T062432
CREATED:20260309T094345Z
LAST-MODIFIED:20260309T094345Z
UID:3500-1774173600-1774177200@blasiikirche-nordhausen.de
SUMMARY:Gottesdienst zum Sonntag Judika mit Pfarrer Hauke Meinhold
DESCRIPTION:Judika – der Sonntag\, der von Hingabe des Liebsten\, von der Hingabe an Gott erzählt. Wörtlich übersetzt bedeutet das „Schaffe mir recht“ oder „richte mich“. Mit diesem Sonntag beginnt die eigentliche Leidenszeit Jesu bis zum Tod am Kreuz. Christus ist im Heilsplan Gottes gehorsam bis zum Tod. Dieser Weg mag uns unverständlich sein\, er kann sogar abstoßen. Dennoch wollen wir diesem Leidensweg nachspüren und gemeinsam den Blick auf das Kommende richten.
URL:https://blasiikirche-nordhausen.de/event/gottesdienst-zum-sonntag-judika-mit-pfarrer-hauke-meinhold/
LOCATION:Blasiikirche Nordhausen\, Nordhausen\, Thüringen
CATEGORIES:Gottesdienst
END:VEVENT
BEGIN:VEVENT
DTSTART;TZID=Europe/Berlin:20260315T100000
DTEND;TZID=Europe/Berlin:20260315T110000
DTSTAMP:20260420T062432
CREATED:20260309T093253Z
LAST-MODIFIED:20260309T093254Z
UID:3498-1773568800-1773572400@blasiikirche-nordhausen.de
SUMMARY:Gottesdienst zum Sonntag Laetare mit Pfarrerehepaar von Biela
DESCRIPTION:Laetare – „Freuet euch“! Mitten in der Passionszeit erleben wir ein kleines Osterfest\, erfüllt von Freude „trotzdem“. Auch wenn der Wochenspruch auf den kommenden Tod und das Leiden Jesu hindeutet\, so gibt es doch dennoch immer wieder Grund zur Freude\, auch in der Passions- und Fastenzeit. Darauf wollen wir uns in diesem Gottesdienst konzentrieren und gemeinsam Freude erleben – trotzdem!
URL:https://blasiikirche-nordhausen.de/event/gottesdienst-zum-sonntag-laetare-mit-pfarrerehepaar-von-biela/
LOCATION:Blasiikirche Nordhausen\, Nordhausen\, Thüringen
CATEGORIES:Gottesdienst
END:VEVENT
BEGIN:VEVENT
DTSTART;TZID=Europe/Berlin:20260309T190000
DTEND;TZID=Europe/Berlin:20260312T210000
DTSTAMP:20260420T062432
CREATED:20260309T101502Z
LAST-MODIFIED:20260309T101503Z
UID:3520-1773082800-1773349200@blasiikirche-nordhausen.de
SUMMARY:Ökumenische Bibelwoche in Nordhausen (Christuskirche Grimmelallee)
DESCRIPTION:Am Montag beginnt in Nordhausen die Ökumenische Bibelwoche! Von Montag bis Donnerstag gibt es an jedem Abend Musik und Moderation\, ein oder zwei Kapitel aus der spannenden Geschichte des Buches Ester und Gespräche mit den anderen Christen unserer Stadt. Die Veranstaltungen finden in der Christuskirche (Grimmelallee) statt!Die Referenten sind:\nMo\, 9.3.: Prof. Sandra Meusel\, Hochschule Nordhausen\nDi\, 10.3.: Pfr. i.R. Peter Kube\, Halle\nMi\, 11.3.: Pfr. i.R. Matthias Hänel\, Woffleben\nDo\, 12.3.: Pfr. Michael Turbiasz\, Landespolizeiseelsorger\, Bistum Erfurt
URL:https://blasiikirche-nordhausen.de/event/oekumenische-bibelwoche-in-nordhausen-christuskirche-grimmelallee/
LOCATION:Christuskirche Nordhausen\, Grimmelallee 51\, Nordhausen\, Thüringen\, 99734
CATEGORIES:Ökumenisch Beten
END:VEVENT
BEGIN:VEVENT
DTSTART;TZID=Europe/Berlin:20260308T100000
DTEND;TZID=Europe/Berlin:20260308T110000
DTSTAMP:20260420T062432
CREATED:20260228T080000Z
LAST-MODIFIED:20260228T080000Z
UID:3490-1772964000-1772967600@blasiikirche-nordhausen.de
SUMMARY:Kanzeltausch-Gottesdienst an Okuli mit Pfarrerin Nadine Greifenstein
DESCRIPTION:Am 1. Januar 2027 wird aus drei Kirchenkreisen (Südharz\, Bad Frankenhausen-Sondershausen und Mühlhausen) der große Kirchenkreis Nordthüringen gebildet. Damit sich bereits jetzt alle besser kennenlernen und vernetzen\, werden ab und an die Kanzeln getauscht. An Okuli haben wir die Freude\, Pfarrerin Nadine Greifenstein aus Bad Frankenhausen auf der Kanzel der Blasiikirche begrüßen zu dürfen.
URL:https://blasiikirche-nordhausen.de/event/kanzeltausch-gottesdienst-an-okuli-mit-pfarrerin-nadine-greifenstein/
LOCATION:Blasiikirche Nordhausen\, Nordhausen\, Thüringen
CATEGORIES:Gottesdienst
END:VEVENT
BEGIN:VEVENT
DTSTART;TZID=Europe/Berlin:20260301T100000
DTEND;TZID=Europe/Berlin:20260301T110000
DTSTAMP:20260420T062432
CREATED:20260228T075646Z
LAST-MODIFIED:20260228T075646Z
UID:3481-1772359200-1772362800@blasiikirche-nordhausen.de
SUMMARY:Gottesdienst mit Abendmahl an Reminiszere
DESCRIPTION:mit Pfarrerehepaar von Biela und anschließendem Kirchenkaffee
URL:https://blasiikirche-nordhausen.de/event/gottesdienst-mit-abendmahl-an-reminiszere/
LOCATION:Blasiikirche Nordhausen\, Nordhausen\, Thüringen
CATEGORIES:Gottesdienst
END:VEVENT
END:VCALENDAR