BEGIN:VCALENDAR
VERSION:2.0
PRODID:-//Startseite  - ECPv6.15.18//NONSGML v1.0//EN
CALSCALE:GREGORIAN
METHOD:PUBLISH
X-ORIGINAL-URL:https://blasiikirche-nordhausen.de
X-WR-CALDESC:Veranstaltungen für Startseite 
REFRESH-INTERVAL;VALUE=DURATION:PT1H
X-Robots-Tag:noindex
X-PUBLISHED-TTL:PT1H
BEGIN:VTIMEZONE
TZID:Europe/Berlin
BEGIN:DAYLIGHT
TZOFFSETFROM:+0100
TZOFFSETTO:+0200
TZNAME:CEST
DTSTART:20250330T010000
END:DAYLIGHT
BEGIN:STANDARD
TZOFFSETFROM:+0200
TZOFFSETTO:+0100
TZNAME:CET
DTSTART:20251026T010000
END:STANDARD
BEGIN:DAYLIGHT
TZOFFSETFROM:+0100
TZOFFSETTO:+0200
TZNAME:CEST
DTSTART:20260329T010000
END:DAYLIGHT
BEGIN:STANDARD
TZOFFSETFROM:+0200
TZOFFSETTO:+0100
TZNAME:CET
DTSTART:20261025T010000
END:STANDARD
BEGIN:DAYLIGHT
TZOFFSETFROM:+0100
TZOFFSETTO:+0200
TZNAME:CEST
DTSTART:20270328T010000
END:DAYLIGHT
BEGIN:STANDARD
TZOFFSETFROM:+0200
TZOFFSETTO:+0100
TZNAME:CET
DTSTART:20271031T010000
END:STANDARD
END:VTIMEZONE
BEGIN:VEVENT
DTSTART;TZID=Europe/Berlin:20260315T100000
DTEND;TZID=Europe/Berlin:20260315T110000
DTSTAMP:20260420T094023
CREATED:20260309T093253Z
LAST-MODIFIED:20260309T093254Z
UID:3498-1773568800-1773572400@blasiikirche-nordhausen.de
SUMMARY:Gottesdienst zum Sonntag Laetare mit Pfarrerehepaar von Biela
DESCRIPTION:Laetare – „Freuet euch“! Mitten in der Passionszeit erleben wir ein kleines Osterfest\, erfüllt von Freude „trotzdem“. Auch wenn der Wochenspruch auf den kommenden Tod und das Leiden Jesu hindeutet\, so gibt es doch dennoch immer wieder Grund zur Freude\, auch in der Passions- und Fastenzeit. Darauf wollen wir uns in diesem Gottesdienst konzentrieren und gemeinsam Freude erleben – trotzdem!
URL:https://blasiikirche-nordhausen.de/event/gottesdienst-zum-sonntag-laetare-mit-pfarrerehepaar-von-biela/
LOCATION:Blasiikirche Nordhausen\, Nordhausen\, Thüringen
CATEGORIES:Gottesdienst
END:VEVENT
END:VCALENDAR