BEGIN:VCALENDAR
VERSION:2.0
PRODID:-//Startseite  - ECPv6.15.18//NONSGML v1.0//EN
CALSCALE:GREGORIAN
METHOD:PUBLISH
X-WR-CALNAME:Startseite 
X-ORIGINAL-URL:https://blasiikirche-nordhausen.de
X-WR-CALDESC:Veranstaltungen für Startseite 
REFRESH-INTERVAL;VALUE=DURATION:PT1H
X-Robots-Tag:noindex
X-PUBLISHED-TTL:PT1H
BEGIN:VTIMEZONE
TZID:Europe/Berlin
BEGIN:DAYLIGHT
TZOFFSETFROM:+0100
TZOFFSETTO:+0200
TZNAME:CEST
DTSTART:20250330T010000
END:DAYLIGHT
BEGIN:STANDARD
TZOFFSETFROM:+0200
TZOFFSETTO:+0100
TZNAME:CET
DTSTART:20251026T010000
END:STANDARD
BEGIN:DAYLIGHT
TZOFFSETFROM:+0100
TZOFFSETTO:+0200
TZNAME:CEST
DTSTART:20260329T010000
END:DAYLIGHT
BEGIN:STANDARD
TZOFFSETFROM:+0200
TZOFFSETTO:+0100
TZNAME:CET
DTSTART:20261025T010000
END:STANDARD
BEGIN:DAYLIGHT
TZOFFSETFROM:+0100
TZOFFSETTO:+0200
TZNAME:CEST
DTSTART:20270328T010000
END:DAYLIGHT
BEGIN:STANDARD
TZOFFSETFROM:+0200
TZOFFSETTO:+0100
TZNAME:CET
DTSTART:20271031T010000
END:STANDARD
END:VTIMEZONE
BEGIN:VEVENT
DTSTART;TZID=Europe/Berlin:20260308T100000
DTEND;TZID=Europe/Berlin:20260308T110000
DTSTAMP:20260420T094516
CREATED:20260228T080000Z
LAST-MODIFIED:20260228T080000Z
UID:3490-1772964000-1772967600@blasiikirche-nordhausen.de
SUMMARY:Kanzeltausch-Gottesdienst an Okuli mit Pfarrerin Nadine Greifenstein
DESCRIPTION:Am 1. Januar 2027 wird aus drei Kirchenkreisen (Südharz\, Bad Frankenhausen-Sondershausen und Mühlhausen) der große Kirchenkreis Nordthüringen gebildet. Damit sich bereits jetzt alle besser kennenlernen und vernetzen\, werden ab und an die Kanzeln getauscht. An Okuli haben wir die Freude\, Pfarrerin Nadine Greifenstein aus Bad Frankenhausen auf der Kanzel der Blasiikirche begrüßen zu dürfen.
URL:https://blasiikirche-nordhausen.de/event/kanzeltausch-gottesdienst-an-okuli-mit-pfarrerin-nadine-greifenstein/
LOCATION:Blasiikirche Nordhausen\, Nordhausen\, Thüringen
CATEGORIES:Gottesdienst
END:VEVENT
END:VCALENDAR