BEGIN:VCALENDAR
VERSION:2.0
PRODID:-//Startseite  - ECPv6.15.18//NONSGML v1.0//EN
CALSCALE:GREGORIAN
METHOD:PUBLISH
X-WR-CALNAME:Startseite 
X-ORIGINAL-URL:https://blasiikirche-nordhausen.de
X-WR-CALDESC:Veranstaltungen für Startseite 
REFRESH-INTERVAL;VALUE=DURATION:PT1H
X-Robots-Tag:noindex
X-PUBLISHED-TTL:PT1H
BEGIN:VTIMEZONE
TZID:Europe/Berlin
BEGIN:DAYLIGHT
TZOFFSETFROM:+0100
TZOFFSETTO:+0200
TZNAME:CEST
DTSTART:20250330T010000
END:DAYLIGHT
BEGIN:STANDARD
TZOFFSETFROM:+0200
TZOFFSETTO:+0100
TZNAME:CET
DTSTART:20251026T010000
END:STANDARD
BEGIN:DAYLIGHT
TZOFFSETFROM:+0100
TZOFFSETTO:+0200
TZNAME:CEST
DTSTART:20260329T010000
END:DAYLIGHT
BEGIN:STANDARD
TZOFFSETFROM:+0200
TZOFFSETTO:+0100
TZNAME:CET
DTSTART:20261025T010000
END:STANDARD
BEGIN:DAYLIGHT
TZOFFSETFROM:+0100
TZOFFSETTO:+0200
TZNAME:CEST
DTSTART:20270328T010000
END:DAYLIGHT
BEGIN:STANDARD
TZOFFSETFROM:+0200
TZOFFSETTO:+0100
TZNAME:CET
DTSTART:20271031T010000
END:STANDARD
END:VTIMEZONE
BEGIN:VEVENT
DTSTART;TZID=Europe/Berlin:20260301T100000
DTEND;TZID=Europe/Berlin:20260301T110000
DTSTAMP:20260420T094619
CREATED:20260228T075646Z
LAST-MODIFIED:20260228T075646Z
UID:3481-1772359200-1772362800@blasiikirche-nordhausen.de
SUMMARY:Gottesdienst mit Abendmahl an Reminiszere
DESCRIPTION:mit Pfarrerehepaar von Biela und anschließendem Kirchenkaffee
URL:https://blasiikirche-nordhausen.de/event/gottesdienst-mit-abendmahl-an-reminiszere/
LOCATION:Blasiikirche Nordhausen\, Nordhausen\, Thüringen
CATEGORIES:Gottesdienst
END:VEVENT
END:VCALENDAR